BEGIN:VCALENDAR
VERSION:2.0
PRODID:-//Saline Fiddlers Philharmonic - ECPv6.6.4.2//NONSGML v1.0//EN
CALSCALE:GREGORIAN
METHOD:PUBLISH
X-WR-CALNAME:Saline Fiddlers Philharmonic
X-ORIGINAL-URL:https://salinefiddlers.com
X-WR-CALDESC:Events for Saline Fiddlers Philharmonic
REFRESH-INTERVAL;VALUE=DURATION:PT1H
X-Robots-Tag:noindex
X-PUBLISHED-TTL:PT1H
BEGIN:VTIMEZONE
TZID:America/Detroit
BEGIN:DAYLIGHT
TZOFFSETFROM:-0500
TZOFFSETTO:-0400
TZNAME:EDT
DTSTART:20210314T070000
END:DAYLIGHT
BEGIN:STANDARD
TZOFFSETFROM:-0400
TZOFFSETTO:-0500
TZNAME:EST
DTSTART:20211107T060000
END:STANDARD
BEGIN:DAYLIGHT
TZOFFSETFROM:-0500
TZOFFSETTO:-0400
TZNAME:EDT
DTSTART:20220313T070000
END:DAYLIGHT
BEGIN:STANDARD
TZOFFSETFROM:-0400
TZOFFSETTO:-0500
TZNAME:EST
DTSTART:20221106T060000
END:STANDARD
BEGIN:DAYLIGHT
TZOFFSETFROM:-0500
TZOFFSETTO:-0400
TZNAME:EDT
DTSTART:20230312T070000
END:DAYLIGHT
BEGIN:STANDARD
TZOFFSETFROM:-0400
TZOFFSETTO:-0500
TZNAME:EST
DTSTART:20231105T060000
END:STANDARD
BEGIN:DAYLIGHT
TZOFFSETFROM:-0500
TZOFFSETTO:-0400
TZNAME:EDT
DTSTART:20240310T070000
END:DAYLIGHT
BEGIN:STANDARD
TZOFFSETFROM:-0400
TZOFFSETTO:-0500
TZNAME:EST
DTSTART:20241103T060000
END:STANDARD
END:VTIMEZONE
BEGIN:VEVENT
DTSTART;TZID=America/Detroit:20240411T183000
DTEND;TZID=America/Detroit:20240411T193000
DTSTAMP:20260419T185604
CREATED:20240310T233453Z
LAST-MODIFIED:20240310T233453Z
UID:3387-1712860200-1712863800@salinefiddlers.com
SUMMARY:Pleasant Ridge Art Night
DESCRIPTION:
URL:https://salinefiddlers.com/event/pleasant-ridge-art-night/
LOCATION:Pleasant Ridge Elementary\, 229 Pleasant Ridge Dr.\, Saline\, MI\, 48176\, United States
END:VEVENT
BEGIN:VEVENT
DTSTART;TZID=America/Detroit:20240406T190000
DTEND;TZID=America/Detroit:20240406T190000
DTSTAMP:20260419T185604
CREATED:20231128T031203Z
LAST-MODIFIED:20240402T230213Z
UID:3185-1712430000-1712430000@salinefiddlers.com
SUMMARY:Saline Fiddler's 30th Hometown Show!
DESCRIPTION:The Saline Fiddlers Philharmonic will celebrate their 30th Anniversary with special guest SFP alum Jeremy Kittel and his band Kittel & Co.!\nPurchase Tickets Here! \nPlease join us for a special show celebrating 30-years of uplifting fiddle and bluegrass music performed by this amazing youth group from Saline\, MI.\n\nThis show will be a collaboration between Saline Fiddlers\, and grammy nominated Jeremy Kittel and his 5-piece band\, Kittel and Co.\n\nCome celebrate the joy of music with us. This promises to be an uplifting show\, as these talented young musicians share their energy\, joy\, and optimism through their performances.\n\nThe Saline Fiddlers are America’s premiere youth fiddle show band have been amazing audiences around the country and around the world since 1994.\n\nJeremy Kittel grew up in Saline\, performed with the Saline Fiddlers in high school\, and is a University of Michigan alum. He is considered one of the most exceptional violinists and fiddlers of his generation.\n\nKittel and Co.\, led by Grammy-nominated violinist and composer Jeremy Kittel\, inhabits the space between classical and acoustic roots\, Celtic and bluegrass aesthetics\, and folk and jazz sensibilities. \n\nNominated for “Best Instrumental Composition” Grammy Award.\nMost recent album “Whorls” debuted as #1 on the Billboard bluegrass charts\nYou Tube sample\nSpotify link\n\nVisit Jeremy Kittle’s Website \n \nNews Coverage: \n30 Years of Youth Fiddling in Saline \nFrom Saline to the Grammys and Beyond \nSaline Post \nSun Times \nPurchase Tickets Here!
URL:https://salinefiddlers.com/event/saline-fiddlers-hometown-show/
LOCATION:Saline High School\,  1300 Campus Pkwy\, Saline\, 48176\, United States
END:VEVENT
BEGIN:VEVENT
DTSTART;TZID=America/Detroit:20240312T180000
DTEND;TZID=America/Detroit:20240312T190000
DTSTAMP:20260419T185604
CREATED:20240213T031124Z
LAST-MODIFIED:20240310T233004Z
UID:3429-1710266400-1710270000@salinefiddlers.com
SUMMARY:Story Point Retirement Community
DESCRIPTION:
URL:https://salinefiddlers.com/event/story-point-retirement-community/
LOCATION:Story Point Retirement Community\, 6230 S. State Road\, Saline\, MI\, 48176\, United States
END:VEVENT
BEGIN:VEVENT
DTSTART;TZID=America/Detroit:20240309T103000
DTEND;TZID=America/Detroit:20240309T113000
DTSTAMP:20260419T185604
CREATED:20240213T030556Z
LAST-MODIFIED:20240227T024156Z
UID:3425-1709980200-1709983800@salinefiddlers.com
SUMMARY:Hampton Manor of Dundee
DESCRIPTION:
URL:https://salinefiddlers.com/event/hampton-manor-of-dundee/
LOCATION:Hampton Manor of Dundee\, 123 Waterstradt Commerce Dr.\, Dundee\, MI\, 48131\, United States
END:VEVENT
BEGIN:VEVENT
DTSTART;TZID=America/Detroit:20240215T173000
DTEND;TZID=America/Detroit:20240215T190000
DTSTAMP:20260419T185604
CREATED:20240114T195316Z
LAST-MODIFIED:20240114T195316Z
UID:3381-1708018200-1708023600@salinefiddlers.com
SUMMARY:Woodland Meadows Pancake Literacy Night
DESCRIPTION:Come out and support the Fiddler’s and the Woodland Meadows PTA!
URL:https://salinefiddlers.com/event/woodland-meadows-pancake-literacy-night/
LOCATION:Woodland Meadows Elementary School\, 350 East Woodland Drive\, Saline\, MI\, 48176\, United States
END:VEVENT
BEGIN:VEVENT
DTSTART;TZID=America/Detroit:20240128T143000
DTEND;TZID=America/Detroit:20240128T153000
DTSTAMP:20260419T185604
CREATED:20231129T033024Z
LAST-MODIFIED:20231129T033024Z
UID:3244-1706452200-1706455800@salinefiddlers.com
SUMMARY:Fiddlers Auditions
DESCRIPTION:Join the Fiddlers!   Sign up here:  https://salinefiddlers.com/auditions/
URL:https://salinefiddlers.com/event/fiddlers-auditions/
LOCATION:The 109 Cultural Exchange in Saline\, 109 W. Michigan Ave.\, Saline\, 48176\, United States
END:VEVENT
BEGIN:VEVENT
DTSTART;TZID=America/Detroit:20240121T150000
DTEND;TZID=America/Detroit:20240121T160000
DTSTAMP:20260419T185604
CREATED:20231129T032828Z
LAST-MODIFIED:20231129T032838Z
UID:3240-1705849200-1705852800@salinefiddlers.com
SUMMARY:Pre-Audition Workshop
DESCRIPTION:Interested in joining The Fiddlers?   Fill out the form here: https://salinefiddlers.com/auditions/ and join us at the pre-audition workshop to meet the group and see what it’s all about!
URL:https://salinefiddlers.com/event/pre-audition-workshop/
LOCATION:The 109 Cultural Exchange in Saline\, 109 W. Michigan Ave.\, Saline\, 48176\, United States
CATEGORIES:Workshop
END:VEVENT
BEGIN:VEVENT
DTSTART;TZID=America/Detroit:20240113T190000
DTEND;TZID=America/Detroit:20240113T223000
DTSTAMP:20260419T185604
CREATED:20231217T172438Z
LAST-MODIFIED:20240109T022005Z
UID:3359-1705172400-1705185000@salinefiddlers.com
SUMMARY:Ann Arbor Contra Dance
DESCRIPTION:Open to the public!\n \nThis is a pay-what-you-can event. Suggested cover is $10 each\, to cover the cost of the hall\, caller\, band\, and sound technician\, but please pay what you can.  Credit cards / cash / Venmo / Paypal accepted at the door.\n \nConcertContra-flyer-2024 2
URL:https://salinefiddlers.com/event/ann-arbor-contra-dance/
LOCATION:The Concourse Hall\, 4531 Concourse Dr.\, Ann Arbor\, MI\, 48108\, United States
END:VEVENT
BEGIN:VEVENT
DTSTART;TZID=America/Detroit:20231218T170000
DTEND;TZID=America/Detroit:20231218T193000
DTSTAMP:20260419T185604
CREATED:20231127T002433Z
LAST-MODIFIED:20231127T002433Z
UID:3176-1702918800-1702927800@salinefiddlers.com
SUMMARY:Milan Seniors for Healthy Living Holiday Fun
DESCRIPTION:
URL:https://salinefiddlers.com/event/milan-seniors-for-healthy-living-holiday-fun/
LOCATION:Milan Seniors for Healthy Living\, 45 Neckel Ct.\, Milan\, MI\, 48160\, United States
CATEGORIES:Concert
END:VEVENT
BEGIN:VEVENT
DTSTART;TZID=America/Detroit:20231130T200000
DTEND;TZID=America/Detroit:20231130T200000
DTSTAMP:20260419T185604
CREATED:20231129T032153Z
LAST-MODIFIED:20231129T032204Z
UID:3237-1701374400-1701374400@salinefiddlers.com
SUMMARY:Fiddlers Demo @ SHS Chamber / SMS 8th Grade Concert
DESCRIPTION:The Fiddlers will perform a few songs at Intermission!
URL:https://salinefiddlers.com/event/fiddlers-demo-shs-chamber-sms-8th-grade-concert/
LOCATION:Saline High School\,  1300 Campus Pkwy\, Saline\, 48176\, United States
END:VEVENT
BEGIN:VEVENT
DTSTART;TZID=America/Detroit:20231021T193000
DTEND;TZID=America/Detroit:20231021T213000
DTSTAMP:20260419T185604
CREATED:20230203T003611Z
LAST-MODIFIED:20230203T003708Z
UID:2917-1697916600-1697923800@salinefiddlers.com
SUMMARY:PIX Theater in Lapeer\, MI
DESCRIPTION:IIi
URL:https://salinefiddlers.com/event/pix-theater-in-lapeer-mi/
LOCATION:PIX Theater\, 172 W. Nepessing St.\, Lapeer\, MI\, 48446\, United States
END:VEVENT
BEGIN:VEVENT
DTSTART;VALUE=DATE:20230903
DTEND;VALUE=DATE:20230904
DTSTAMP:20260419T185604
CREATED:20230203T003224Z
LAST-MODIFIED:20230203T003224Z
UID:2915-1693699200-1693699200@salinefiddlers.com
SUMMARY:Saline Community Fair
DESCRIPTION:
URL:https://salinefiddlers.com/event/saline-community-fair-5/
LOCATION:MI
END:VEVENT
BEGIN:VEVENT
DTSTART;TZID=America/Detroit:20230810T190000
DTEND;TZID=America/Detroit:20230810T210000
DTSTAMP:20260419T185604
CREATED:20230203T003037Z
LAST-MODIFIED:20230203T003037Z
UID:2912-1691694000-1691701200@salinefiddlers.com
SUMMARY:Salty Summer Sounds - Saline
DESCRIPTION:
URL:https://salinefiddlers.com/event/salty-summer-sounds-saline/
LOCATION:Downtown Saline\, outdoor concert at corner of Ann Arbor Street and Mich Ave.
END:VEVENT
BEGIN:VEVENT
DTSTART;TZID=America/Detroit:20230730T160000
DTEND;TZID=America/Detroit:20230730T170000
DTSTAMP:20260419T185604
CREATED:20230530T002326Z
LAST-MODIFIED:20230530T002500Z
UID:3005-1690732800-1690736400@salinefiddlers.com
SUMMARY:Saline Food Truck Festival to benefit Saline Area Social Services
DESCRIPTION:The Saline Fiddlers are please to participate in the Food Truck Festival to benefit Saline Area Social Services. \nCome out to try some tasty food\, see the Fiddlers perform and support SASS!
URL:https://salinefiddlers.com/event/saline-area-social-services-food-truck-festival/
LOCATION:Saline High School\,  1300 Campus Pkwy\, Saline\, 48176\, United States
END:VEVENT
BEGIN:VEVENT
DTSTART;VALUE=DATE:20230721
DTEND;VALUE=DATE:20230722
DTSTAMP:20260419T185604
CREATED:20230203T001954Z
LAST-MODIFIED:20230203T002521Z
UID:2910-1689897600-1689983999@salinefiddlers.com
SUMMARY:Cadillac Festival of the Arts - Cadillac\, MI
DESCRIPTION:
URL:https://salinefiddlers.com/event/cadillac-festival-of-the-arts-cadillac-mi/
LOCATION:MI
END:VEVENT
BEGIN:VEVENT
DTSTART;TZID=America/Detroit:20230719T120000
DTEND;TZID=America/Detroit:20230719T120000
DTSTAMP:20260419T185604
CREATED:20230203T001704Z
LAST-MODIFIED:20230203T001704Z
UID:2908-1689768000-1689768000@salinefiddlers.com
SUMMARY:Plymouth Music in the Park
DESCRIPTION:
URL:https://salinefiddlers.com/event/plymouth-music-in-the-park-7/
LOCATION:MI
END:VEVENT
BEGIN:VEVENT
DTSTART;VALUE=DATE:20230711
DTEND;VALUE=DATE:20230712
DTSTAMP:20260419T185604
CREATED:20230203T001537Z
LAST-MODIFIED:20230203T001537Z
UID:2906-1689033600-1689119999@salinefiddlers.com
SUMMARY:Special Needs Social Club - Saline Library
DESCRIPTION:
URL:https://salinefiddlers.com/event/special-needs-social-club-saline-library/
LOCATION:MI
END:VEVENT
BEGIN:VEVENT
DTSTART;TZID=America/Detroit:20230708T120000
DTEND;TZID=America/Detroit:20230708T130000
DTSTAMP:20260419T185604
CREATED:20230530T000613Z
LAST-MODIFIED:20230530T000613Z
UID:3001-1688817600-1688821200@salinefiddlers.com
SUMMARY:Saline Celtic Festival
DESCRIPTION:The Saline Fiddlers (freshly back from the 2023 Country Road Tour) are excited to perform at the 2023 Saline Celtic Festival. \nCome see the Fiddlers perform on the Red Dragon Stage from 12 – 1 pm and then stay for the rest of the festivities!
URL:https://salinefiddlers.com/event/saline-celtic-festival-6/
LOCATION:Washtenaw County Fairgrounds\, 5055 Ann Arbor-Saline Rd\, Ann Arbor\, MI\, 48103\, United States
END:VEVENT
BEGIN:VEVENT
DTSTART;TZID=America/Detroit:20230702T120000
DTEND;TZID=America/Detroit:20230702T140000
DTSTAMP:20260419T185604
CREATED:20230529T235101Z
LAST-MODIFIED:20230529T235232Z
UID:2994-1688299200-1688306400@salinefiddlers.com
SUMMARY:2023 Tour - Kutztown Folk Festival
DESCRIPTION:Midway through the 2023 Country Road Tour\, the Saline Fiddlers will be performing at the Kutztown Folk Festival in Pennsylvannia. You can find them at the Frest Fest Stage from 12-2pm. \nIf you’re in Pennsylvannia Dutch country\, come out to watch the Saline Fiddlers at this unique festival that celebrates Pennsylvannia Dutch traditions and the “largest quilt sale in America”!
URL:https://salinefiddlers.com/event/2023-tour-kutztown-folk-festival/
LOCATION:Kutztown Folk Festival\, 450 Wentz Street\, Kutztown\, PA\, 19530
END:VEVENT
BEGIN:VEVENT
DTSTART;TZID=America/Detroit:20230701T150000
DTEND;TZID=America/Detroit:20230701T170000
DTSTAMP:20260419T185604
CREATED:20230203T001431Z
LAST-MODIFIED:20230529T231020Z
UID:2904-1688223600-1688230800@salinefiddlers.com
SUMMARY:2023 Tour - Orr's Farm Market - Martinsburg\, WV
DESCRIPTION:The Saline Fiddlers will be stopping in West Virgina on their 2023 Country Road Tour to perform at Orr’s Farm Market from 3pm – 5pm. \nIf you’re in the area come visit Orr’s and listen to some great music!
URL:https://salinefiddlers.com/event/20223-tour-orr-farm-market-martinsburg-wv/
LOCATION:Orr’s Farm Market\, 682 Orr Drive\, Martinsburg\, West Virginia\, 25403
END:VEVENT
BEGIN:VEVENT
DTSTART;TZID=America/Detroit:20230630T103000
DTEND;TZID=America/Detroit:20230630T123000
DTSTAMP:20260419T185604
CREATED:20230529T221127Z
LAST-MODIFIED:20230529T230658Z
UID:2970-1688121000-1688128200@salinefiddlers.com
SUMMARY:2023 Tour - US Capitol - Washington\, DC
DESCRIPTION:The Saline Fiddlers will be in Washington\, DC during the 2023 Country Road Tour. \nVisitors will be able to see the Saline Fiddlers perform at the US Capitol\, Area 15\, for a short performance between 10:30 am – 12:30pm. \nFollow us on Facebook for updates on the exact performance time.
URL:https://salinefiddlers.com/event/2023-tour-us-capitol-washington-dc/
LOCATION:US Captiol\, US Capitol\, Washington\, DC
END:VEVENT
BEGIN:VEVENT
DTSTART;TZID=America/Detroit:20230625T131500
DTEND;TZID=America/Detroit:20230625T153000
DTSTAMP:20260419T185604
CREATED:20230529T212426Z
LAST-MODIFIED:20230529T212426Z
UID:2966-1687698900-1687707000@salinefiddlers.com
SUMMARY:People for Palmer Park Log Cabin Day
DESCRIPTION:
URL:https://salinefiddlers.com/event/people-for-palmer-park-log-cabin-day/
LOCATION:Palmer Park\, 910 Merrill Plaisance St\, Detroit\, MI\, 48203\, United States
END:VEVENT
BEGIN:VEVENT
DTSTART;VALUE=DATE:20230603
DTEND;VALUE=DATE:20230604
DTSTAMP:20260419T185604
CREATED:20230529T221856Z
LAST-MODIFIED:20230529T222038Z
UID:2983-1685750400-1685836799@salinefiddlers.com
SUMMARY:Private - Graduation Party
DESCRIPTION:
URL:https://salinefiddlers.com/event/private-graduation-party/
LOCATION:MI
END:VEVENT
BEGIN:VEVENT
DTSTART;TZID=America/Detroit:20230319T150000
DTEND;TZID=America/Detroit:20230319T180000
DTSTAMP:20260419T185604
CREATED:20230225T220759Z
LAST-MODIFIED:20230225T220809Z
UID:2929-1679238000-1679248800@salinefiddlers.com
SUMMARY:Jake Blount Fiddle and Banjo Workshops
DESCRIPTION:   March 19\, 2023.  3-6PM \nWHERE:     Saline High School Performing Arts Center\, 1300 Campus Drive Saline\, MI 48176. \nWHAT:       Jake will teach “hands-on” workshops for fiddle & banjo. \n3 :00 – 4:15    Fiddle workshop \n4:15 – 4:30     A verbal presentation by Jake   4:30 – 4:45     Break \n4:45 – 6:00     Banjo workshop \nTICKETS:   $20\, or $10 for students \nAvailable at the door\, or in advance by clicking here \nAbout Jake Blount: \nJake Blount\, an award-winning multi-instrumentalist\, is a specialist in the early folk music of Black Americans\, Blount is a skilled performer of spirituals\, blues and string band repertoire\, and has performed at the Kennedy Center\, the Newport Folk Festival\, NPR’s Tiny Desk\, and numerous other venues across and beyond the United States.  More at JakeBlount.com \n(For more info: contact Sheila at tradstepper@gmail.com)
URL:https://salinefiddlers.com/event/jake-blount-fiddle-and-banjo-workshops/
LOCATION:saline high scool
END:VEVENT
BEGIN:VEVENT
DTSTART;TZID=America/Detroit:20230311T190000
DTEND;TZID=America/Detroit:20230311T220000
DTSTAMP:20260419T185604
CREATED:20230225T223740Z
LAST-MODIFIED:20230225T225132Z
UID:2932-1678561200-1678572000@salinefiddlers.com
SUMMARY:Trivia Night Fundraiser
DESCRIPTION:Saturday\, March 11\, 2023  7-10 PM \nTri-County Sporstman’s League \n8640 Moon Road\, Saline \n  \nAppetizers \nCash Bar \nLive Music from the Saline Fiddlers \nAmazing Silent Auction \n  \n$25 per person \nEveryone is welcome! \nTickets at the door\, or in advance Here\n  \n  \n 
URL:https://salinefiddlers.com/event/trivia-night-fundraiser/
LOCATION:MI
END:VEVENT
BEGIN:VEVENT
DTSTART;VALUE=DATE:20230222
DTEND;VALUE=DATE:20230223
DTSTAMP:20260419T185604
CREATED:20230203T000801Z
LAST-MODIFIED:20230203T000801Z
UID:2897-1677024000-1677110399@salinefiddlers.com
SUMMARY:Linden Square Senior Residence
DESCRIPTION:Private Event at Linden Square Senior Residence in Saline
URL:https://salinefiddlers.com/event/linden-square-senior-residence/
LOCATION:MI
END:VEVENT
BEGIN:VEVENT
DTSTART;VALUE=DATE:20230127
DTEND;VALUE=DATE:20230128
DTSTAMP:20260419T185604
CREATED:20230203T001202Z
LAST-MODIFIED:20230203T001202Z
UID:2902-1674777600-1674863999@salinefiddlers.com
SUMMARY:Accoustic Cafe at Howell Opera House
DESCRIPTION:
URL:https://salinefiddlers.com/event/accoustic-cafe-at-howell-opera-house/
LOCATION:MI
END:VEVENT
BEGIN:VEVENT
DTSTART;TZID=America/Detroit:20220409T190000
DTEND;TZID=America/Detroit:20220409T213000
DTSTAMP:20260419T185604
CREATED:20220322T225427Z
LAST-MODIFIED:20220322T225427Z
UID:2814-1649530800-1649539800@salinefiddlers.com
SUMMARY:2022 Hometown Show
DESCRIPTION:
URL:https://salinefiddlers.com/event/2022-hometown-show/
LOCATION:Saline High School\,  1300 Campus Pkwy\, Saline\, 48176\, United States
END:VEVENT
BEGIN:VEVENT
DTSTART;TZID=America/Detroit:20220213T140000
DTEND;TZID=America/Detroit:20220213T153000
DTSTAMP:20260419T185604
CREATED:20220206T193405Z
LAST-MODIFIED:20220206T193405Z
UID:2800-1644760800-1644766200@salinefiddlers.com
SUMMARY:Valentine's Day Show
DESCRIPTION:  \nLooking for a safe\, affordable\, original date idea for Valentine’s Day? We’ve got you covered. The Fiddler’s are hosting a Valentine’s Day show at Liberty School in Saline\, on Sunday\, February 13th from 2:00pm to 3:45. Tickets are $30 a pair and will include an amazing show and special gift. Children 9 and under are free! Tickets can be purchased at the door and are limited. Masks are required for all attendees. More information can be found at salinefiddlers.com and on our Facebook page @salinefiddlersphilharmonic. \n\n\n\n\n\n\nLiberty School\n7265 N. Ann Arbor St.\nSaline\, MI 48176
URL:https://salinefiddlers.com/event/valentines-day-show/
LOCATION:Liberty School\, 7265 N Ann Arbor St\, Saline\, MI\, 48176\, United States
END:VEVENT
BEGIN:VEVENT
DTSTART;TZID=America/Detroit:20210626T193000
DTEND;TZID=America/Detroit:20210626T213000
DTSTAMP:20260419T185604
CREATED:20210425T012002Z
LAST-MODIFIED:20210625T201534Z
UID:2602-1624735800-1624743000@salinefiddlers.com
SUMMARY:2021 Hometown Show
DESCRIPTION:Kids under 18 are FREE.  Saline Fiddler Alumni and Fiddlers Restrung Student Alumni are FREE.  Adult tickets are only $10.  Tickets are available at the door\, or online in advance\, HERE  
URL:https://salinefiddlers.com/event/2021-home-town-show/
LOCATION:Liberty School Gymnasium\, Saline\, 7265 N Ann Arbor St.\, Saline\, MI\, 48176
END:VEVENT
END:VCALENDAR