BEGIN:VCALENDAR
VERSION:2.0
PRODID:-//Saline Fiddlers Philharmonic - ECPv6.6.4.2//NONSGML v1.0//EN
CALSCALE:GREGORIAN
METHOD:PUBLISH
X-WR-CALNAME:Saline Fiddlers Philharmonic
X-ORIGINAL-URL:https://salinefiddlers.com
X-WR-CALDESC:Events for Saline Fiddlers Philharmonic
REFRESH-INTERVAL;VALUE=DURATION:PT1H
X-Robots-Tag:noindex
X-PUBLISHED-TTL:PT1H
BEGIN:VTIMEZONE
TZID:America/Detroit
BEGIN:DAYLIGHT
TZOFFSETFROM:-0500
TZOFFSETTO:-0400
TZNAME:EDT
DTSTART:20240310T070000
END:DAYLIGHT
BEGIN:STANDARD
TZOFFSETFROM:-0400
TZOFFSETTO:-0500
TZNAME:EST
DTSTART:20241103T060000
END:STANDARD
BEGIN:DAYLIGHT
TZOFFSETFROM:-0500
TZOFFSETTO:-0400
TZNAME:EDT
DTSTART:20250309T070000
END:DAYLIGHT
BEGIN:STANDARD
TZOFFSETFROM:-0400
TZOFFSETTO:-0500
TZNAME:EST
DTSTART:20251102T060000
END:STANDARD
END:VTIMEZONE
BEGIN:VEVENT
DTSTART;TZID=America/Detroit:20240716T190000
DTEND;TZID=America/Detroit:20240716T200000
DTSTAMP:20260419T152918
CREATED:20240613T012234Z
LAST-MODIFIED:20240613T012234Z
UID:3557-1721156400-1721160000@salinefiddlers.com
SUMMARY:Ann Arbor Art Fair Kickoff
DESCRIPTION:
URL:https://salinefiddlers.com/event/ann-arbor-art-fair-kickoff/
LOCATION:Ann Arbor\, Ann Arbor\, MI\, United States
END:VEVENT
BEGIN:VEVENT
DTSTART;TZID=America/Detroit:20240720T150000
DTEND;TZID=America/Detroit:20240720T170000
DTSTAMP:20260419T152918
CREATED:20240713T001300Z
LAST-MODIFIED:20240713T001300Z
UID:3569-1721487600-1721494800@salinefiddlers.com
SUMMARY:Ann Arbor Art Fair - Palio Stage
DESCRIPTION:
URL:https://salinefiddlers.com/event/ann-arbor-art-fair-palio-stage/
LOCATION:Ann Arbor Summer Art Fair – Palio Stage\, 353 S Main St\, Ann Arbor\, MI\, 48104\, United States
END:VEVENT
BEGIN:VEVENT
DTSTART;TZID=America/Detroit:20240725T190000
DTEND;TZID=America/Detroit:20240725T210000
DTSTAMP:20260419T152918
CREATED:20240310T235103Z
LAST-MODIFIED:20240310T235103Z
UID:3502-1721934000-1721941200@salinefiddlers.com
SUMMARY:Saline Salty Summer Sounds
DESCRIPTION:
URL:https://salinefiddlers.com/event/saline-salty-summer-sounds-2/
LOCATION:Saline Salty Summer Sounds\, 64 North Ann Arbor Street\, Saline\, MI\, 48176\, United States
END:VEVENT
BEGIN:VEVENT
DTSTART;TZID=America/Detroit:20240731T120000
DTEND;TZID=America/Detroit:20240731T150000
DTSTAMP:20260419T152918
CREATED:20240424T030501Z
LAST-MODIFIED:20240424T030501Z
UID:3527-1722427200-1722438000@salinefiddlers.com
SUMMARY:Plymouth Music in the Park
DESCRIPTION:
URL:https://salinefiddlers.com/event/plymouth-music-in-the-park-8/
LOCATION:Kellogg Park\, Kellogg Park\, Plymouth\, MI\, 48170\, United States
END:VEVENT
BEGIN:VEVENT
DTSTART;TZID=America/Detroit:20240801T120000
DTEND;TZID=America/Detroit:20240801T130000
DTSTAMP:20260419T152918
CREATED:20240613T012614Z
LAST-MODIFIED:20240613T012614Z
UID:3560-1722513600-1722517200@salinefiddlers.com
SUMMARY:Gift of Art at Michigan Medicine
DESCRIPTION:
URL:https://salinefiddlers.com/event/gift-of-art-at-michigan-medicine/
LOCATION:University of Michigan Hospital\, 1500 East Medical Center Drive\, Ann Arbor\, MI\, 48109\, United States
END:VEVENT
BEGIN:VEVENT
DTSTART;TZID=America/Detroit:20240808T150000
DTEND;TZID=America/Detroit:20240808T170000
DTSTAMP:20260419T152918
CREATED:20240424T030644Z
LAST-MODIFIED:20240424T030644Z
UID:3529-1723129200-1723136400@salinefiddlers.com
SUMMARY:Pittsfield Farmer's Market
DESCRIPTION:
URL:https://salinefiddlers.com/event/pittsfield-farmers-market/
LOCATION:Pittsfield Township Farmers Market\, 6201 West Michigan Avenue\, Ann Arbor\, MI\, 48108\, United States
END:VEVENT
BEGIN:VEVENT
DTSTART;TZID=America/Detroit:20240901T170000
DTEND;TZID=America/Detroit:20240901T190000
DTSTAMP:20260419T152918
CREATED:20240310T235311Z
LAST-MODIFIED:20240310T235311Z
UID:3504-1725210000-1725217200@salinefiddlers.com
SUMMARY:Saline Community Fair
DESCRIPTION:
URL:https://salinefiddlers.com/event/saline-community-fair-6/
LOCATION:Washtenaw County Fairgrounds\, 5055 Ann Arbor-Saline Rd\, Ann Arbor\, MI\, 48103\, United States
END:VEVENT
BEGIN:VEVENT
DTSTART;TZID=America/Detroit:20240920T170000
DTEND;TZID=America/Detroit:20240920T190000
DTSTAMP:20260419T152918
CREATED:20240907T144009Z
LAST-MODIFIED:20240907T144009Z
UID:3590-1726851600-1726858800@salinefiddlers.com
SUMMARY:Story Point Retirement Community
DESCRIPTION:“Be A Tourist In Your Town” Finale
URL:https://salinefiddlers.com/event/story-point-retirement-community-2/
LOCATION:Story Point Retirement Community\, 6230 S. State Road\, Saline\, MI\, 48176\, United States
END:VEVENT
BEGIN:VEVENT
DTSTART;TZID=America/Detroit:20240928T100000
DTEND;TZID=America/Detroit:20240928T120000
DTSTAMP:20260419T152918
CREATED:20240424T030906Z
LAST-MODIFIED:20240424T030906Z
UID:3531-1727517600-1727524800@salinefiddlers.com
SUMMARY:Dexter Farmer's Market
DESCRIPTION:
URL:https://salinefiddlers.com/event/dexter-farmers-market/
LOCATION:Dexter Farmer’s Market\, 3233 Alpine\, Dexter\, MI\, 48130\, United States
END:VEVENT
BEGIN:VEVENT
DTSTART;TZID=America/Detroit:20240929T150000
DTEND;TZID=America/Detroit:20240929T170000
DTSTAMP:20260419T152918
CREATED:20240925T025307Z
LAST-MODIFIED:20240925T025307Z
UID:3619-1727622000-1727629200@salinefiddlers.com
SUMMARY:Birmingham Street Art Fair
DESCRIPTION:
URL:https://salinefiddlers.com/event/birmingham-street-art-fair/
LOCATION:Shain Park\, 270 West Merrill Street\, Birmingham\, MI\, 48009\, United States
END:VEVENT
BEGIN:VEVENT
DTSTART;TZID=America/Detroit:20241006T123000
DTEND;TZID=America/Detroit:20241006T140000
DTSTAMP:20260419T152918
CREATED:20240907T144624Z
LAST-MODIFIED:20240907T144624Z
UID:3595-1728217800-1728223200@salinefiddlers.com
SUMMARY:Rentschler Farm Harvest Festival
DESCRIPTION:
URL:https://salinefiddlers.com/event/rentschler-farm-harvest-festival/
LOCATION:Rentschler Farm Museum\, 1265 E Michigan Ave\, Saline\, MI\, 48176\, United States
END:VEVENT
BEGIN:VEVENT
DTSTART;TZID=America/Detroit:20241012T130000
DTEND;TZID=America/Detroit:20241012T150000
DTSTAMP:20260419T152918
CREATED:20240907T144416Z
LAST-MODIFIED:20240907T144416Z
UID:3592-1728738000-1728745200@salinefiddlers.com
SUMMARY:Blast Corn Maze
DESCRIPTION:
URL:https://salinefiddlers.com/event/blast-corn-maze/
LOCATION:Blast Corn Maze\, 6175 Daly Road\, Dexter\, MI\, 48130\, United States
END:VEVENT
BEGIN:VEVENT
DTSTART;TZID=America/Detroit:20241019T130000
DTEND;TZID=America/Detroit:20241019T170000
DTSTAMP:20260419T152918
CREATED:20240907T144903Z
LAST-MODIFIED:20240907T144903Z
UID:3597-1729342800-1729357200@salinefiddlers.com
SUMMARY:Hidden Lake Gardens Fall Foliage Festival
DESCRIPTION:
URL:https://salinefiddlers.com/event/hidden-lake-gardens-fall-foliage-festival/
LOCATION:Hidden Lake Gardens\, 6214 Monroe Road\, Tipton\, MI\, 49287\, United States
END:VEVENT
BEGIN:VEVENT
DTSTART;TZID=America/Detroit:20241022T183000
DTEND;TZID=America/Detroit:20241022T193000
DTSTAMP:20260419T152918
CREATED:20240907T145116Z
LAST-MODIFIED:20240907T145116Z
UID:3600-1729621800-1729625400@salinefiddlers.com
SUMMARY:Meer Apartments
DESCRIPTION:
URL:https://salinefiddlers.com/event/meer-apartments/
LOCATION:Meer Apartments\, 6760 West Maple\, West Bloomfield\, MI\, 48322\, United States
END:VEVENT
BEGIN:VEVENT
DTSTART;TZID=America/Detroit:20241108T180000
DTEND;TZID=America/Detroit:20241108T203000
DTSTAMP:20260419T152918
CREATED:20240907T145321Z
LAST-MODIFIED:20240907T145321Z
UID:3603-1731088800-1731097800@salinefiddlers.com
SUMMARY:Carrigan Cafe
DESCRIPTION:
URL:https://salinefiddlers.com/event/carrigan-cafe/
LOCATION:Carrigan Cafe\, 101 S Ann Arbor St #107\, Saline\, MI\, 48176\, United States
END:VEVENT
BEGIN:VEVENT
DTSTART;TZID=America/Detroit:20241116T180000
DTEND;TZID=America/Detroit:20241116T200000
DTSTAMP:20260419T152918
CREATED:20241027T183526Z
LAST-MODIFIED:20241027T183526Z
UID:3624-1731780000-1731787200@salinefiddlers.com
SUMMARY:Brecon Village
DESCRIPTION:
URL:https://salinefiddlers.com/event/brecon-village/
LOCATION:Brecon Village\, 200 Brecon Drive\, Saline\, MI\, 48176\, United States
END:VEVENT
BEGIN:VEVENT
DTSTART;TZID=America/Detroit:20241124T123000
DTEND;TZID=America/Detroit:20241124T143000
DTSTAMP:20260419T152918
CREATED:20241027T183808Z
LAST-MODIFIED:20241027T183808Z
UID:3627-1732451400-1732458600@salinefiddlers.com
SUMMARY:KBK Garden Center
DESCRIPTION:
URL:https://salinefiddlers.com/event/kbk-garden-center/
LOCATION:KBK Garden Center\, 6400 East Michigan Ave\, Saline\, MI\, 48176\, United States
END:VEVENT
BEGIN:VEVENT
DTSTART;TZID=America/Detroit:20250111T100000
DTEND;TZID=America/Detroit:20250111T120000
DTSTAMP:20260419T152918
CREATED:20241027T184043Z
LAST-MODIFIED:20241027T184043Z
UID:3630-1736589600-1736596800@salinefiddlers.com
SUMMARY:Saline Farmers Market
DESCRIPTION:
URL:https://salinefiddlers.com/event/saline-farmers-market/
LOCATION:Liberty School\, 7265 N Ann Arbor St\, Saline\, MI\, 48176\, United States
END:VEVENT
BEGIN:VEVENT
DTSTART;TZID=America/Detroit:20250220T183000
DTEND;TZID=America/Detroit:20250220T200000
DTSTAMP:20260419T152918
CREATED:20250209T235551Z
LAST-MODIFIED:20250209T235551Z
UID:3810-1740076200-1740081600@salinefiddlers.com
SUMMARY:Woodland Meadows Pancake Night
DESCRIPTION:
URL:https://salinefiddlers.com/event/woodland-meadows-pancake-night/
LOCATION:Woodland Meadows Elementary School\, 350 East Woodland Drive\, Saline\, MI\, 48176\, United States
END:VEVENT
BEGIN:VEVENT
DTSTART;TZID=America/Detroit:20250227T180000
DTEND;TZID=America/Detroit:20250227T190000
DTSTAMP:20260419T152918
CREATED:20250209T235729Z
LAST-MODIFIED:20250209T235729Z
UID:3812-1740679200-1740682800@salinefiddlers.com
SUMMARY:Pleasant Ridge Art Night
DESCRIPTION:
URL:https://salinefiddlers.com/event/pleasant-ridge-art-night-2/
LOCATION:Pleasant Ridge Elementary\, 229 Pleasant Ridge Dr.\, Saline\, MI\, 48176\, United States
END:VEVENT
BEGIN:VEVENT
DTSTART;TZID=America/Detroit:20250301T193000
DTEND;TZID=America/Detroit:20250301T213000
DTSTAMP:20260419T152918
CREATED:20240907T145714Z
LAST-MODIFIED:20240907T145714Z
UID:3608-1740857400-1740864600@salinefiddlers.com
SUMMARY:Pemberville Opera House
DESCRIPTION:
URL:https://salinefiddlers.com/event/pemberville-opera-house-2/
LOCATION:Pemberville Opera House\, 115 Main Street\, Pemberville\, OH\, 43450\, United States
END:VEVENT
BEGIN:VEVENT
DTSTART;TZID=America/Detroit:20250308T183000
DTEND;TZID=America/Detroit:20250308T210000
DTSTAMP:20260419T152918
CREATED:20240907T145842Z
LAST-MODIFIED:20250307T154032Z
UID:3610-1741458600-1741467600@salinefiddlers.com
SUMMARY:31st Annual Hometown Show
DESCRIPTION:Purchase Tickets Here! \nJoin the Saline Fiddlers and their special guests for the 2025 Hometown Show!\n\nWith Special Guests:\nSaline Hornet Drumline\nSMS Fiddle Club \n\nJoin us for an energetic evening of Music\, Singing\, Dancing\, & more!   \nFun For the Whole Family! \n\nTickets Available Online or at The Door! \nGeneral Admission: Adults $15\, Students $10\, Under 10 Free! \nPurchase Tickets Here! \n  \nDoor Ticket Sales start at 5:45pm.   Doors Open at 6:00pm.  Show starts at 6:30pm. \nSFP in the News!: \nhttps://thesuntimesnews.com/save-the-date-for-the-hometown-show-starring-the-saline-fiddlers-philharmonic/ \nhttps://thesalinepost.com/g/saline-mi/post/294093/saline-fiddlers-hometown-show \n \n 
URL:https://salinefiddlers.com/event/31st-annual-hometown-show/
LOCATION:Saline High School\,  1300 Campus Pkwy\, Saline\, 48176\, United States
END:VEVENT
BEGIN:VEVENT
DTSTART;TZID=America/Detroit:20250312T173000
DTEND;TZID=America/Detroit:20250312T183000
DTSTAMP:20260419T152918
CREATED:20250210T000057Z
LAST-MODIFIED:20250210T000057Z
UID:3814-1741800600-1741804200@salinefiddlers.com
SUMMARY:Linden Square
DESCRIPTION:
URL:https://salinefiddlers.com/event/linden-square/
LOCATION:Linden Square\, 650 Woodland Dr E\, Saline\, MI\, 48176\, United States
END:VEVENT
BEGIN:VEVENT
DTSTART;TZID=America/Detroit:20250413T160000
DTEND;TZID=America/Detroit:20250413T180000
DTSTAMP:20260419T152918
CREATED:20250210T000450Z
LAST-MODIFIED:20250210T000450Z
UID:3817-1744560000-1744567200@salinefiddlers.com
SUMMARY:Sunday Afternoon Live!
DESCRIPTION:
URL:https://salinefiddlers.com/event/sunday-afternoon-live/
LOCATION:First Congregational Church\, 145 Capital Ave SE\, Battle Creek\, MI\, 49107\, United States
END:VEVENT
BEGIN:VEVENT
DTSTART;TZID=America/Detroit:20250628T190000
DTEND;TZID=America/Detroit:20250628T200000
DTSTAMP:20260419T152918
CREATED:20250602T020726Z
LAST-MODIFIED:20250602T020726Z
UID:3846-1751137200-1751140800@salinefiddlers.com
SUMMARY:St. Andrew Church Picnic
DESCRIPTION:
URL:https://salinefiddlers.com/event/st-andrew-church-picnic/
LOCATION:St. Andrew the Apostle Catholic Church\, 910 Austin Rd\, Saline\, MI\, 48176\, United States
END:VEVENT
BEGIN:VEVENT
DTSTART;TZID=America/Detroit:20250701T200000
DTEND;TZID=America/Detroit:20250701T220000
DTSTAMP:20260419T152918
CREATED:20250602T020909Z
LAST-MODIFIED:20250602T020909Z
UID:3849-1751400000-1751407200@salinefiddlers.com
SUMMARY:2025 Tour:  Silver Bay YMCA
DESCRIPTION:
URL:https://salinefiddlers.com/event/2025-tour-silver-bay-ymca/
LOCATION:Silver Bay YMCA\, 87 Silver Bay Rd.\, Silver Bay\, NY\, 12874\, United States
END:VEVENT
BEGIN:VEVENT
DTSTART;TZID=America/Detroit:20250702T123000
DTEND;TZID=America/Detroit:20250702T133000
DTSTAMP:20260419T152918
CREATED:20250602T021046Z
LAST-MODIFIED:20250602T021106Z
UID:3852-1751459400-1751463000@salinefiddlers.com
SUMMARY:2025 Tour: Burlington City Arts
DESCRIPTION:
URL:https://salinefiddlers.com/event/2025-tour-burlington-city-arts/
LOCATION:Burlington City Hall Park\, City Hall Park\, Burlington\, VT\, 05401\, United States
END:VEVENT
BEGIN:VEVENT
DTSTART;TZID=America/Detroit:20250702T183000
DTEND;TZID=America/Detroit:20250702T210000
DTSTAMP:20260419T152918
CREATED:20250602T021259Z
LAST-MODIFIED:20250602T021259Z
UID:3855-1751481000-1751490000@salinefiddlers.com
SUMMARY:2025 Tour: Enosburg Opera House
DESCRIPTION:
URL:https://salinefiddlers.com/event/2025-tour-enosburg-opera-house/
LOCATION:Enosburg Opera House\, 123 Depot Street\, Enosburg Falls\, VT\, 05405\, United States
END:VEVENT
BEGIN:VEVENT
DTSTART;TZID=America/Detroit:20250704T100000
DTEND;TZID=America/Detroit:20250704T110000
DTSTAMP:20260419T152918
CREATED:20250602T021459Z
LAST-MODIFIED:20250602T021459Z
UID:3858-1751623200-1751626800@salinefiddlers.com
SUMMARY:2025 Tour: Ashland 4th of July Parade
DESCRIPTION:
URL:https://salinefiddlers.com/event/2025-tour-ashland-4th-of-july-parade/
LOCATION:Ashland\, NH\, 9 Main St\, Ashland\, NH\, 03217\, United States
END:VEVENT
BEGIN:VEVENT
DTSTART;TZID=America/Detroit:20250705T150000
DTEND;TZID=America/Detroit:20250705T170000
DTSTAMP:20260419T152918
CREATED:20250602T021702Z
LAST-MODIFIED:20250602T021702Z
UID:3861-1751727600-1751734800@salinefiddlers.com
SUMMARY:2025 Tour: Portland Lobster Company
DESCRIPTION:
URL:https://salinefiddlers.com/event/2025-tour-portland-lobster-company/
LOCATION:Portland Lobster Co.\, 180 Commercial St\, Portland\, ME\, 04101\, United States
END:VEVENT
END:VCALENDAR